BEGIN:VCALENDAR
VERSION:2.0
PRODID:-//ddaysoftware.com//NONSGML DDay.iCal 1.0//EN
BEGIN:VEVENT
DESCRIPTION:Volet 1: Grand Conseil À la veille des élections\, la CCIG a le
  plaisir de convier à l’Uptown l’ensemble des candidats au Grand Conseil à
  une rencontre qui sera l’occasion de présenter les propositions de la Cha
 mbre pour la nouvelle législature et d’échanger sur les préoccupations et 
 les besoins des entreprises genevoises. \n Ouvert à tous les entrepreneurs
  genevois\, cet évènement permettra aux futurs élus et aux représentants d
 e l’économie de dialoguer sur les priorités pour l’avenir du canton.  \n P
 rogramme  : \n \n \n \n \n 17h30 \n \n \n Ouverture des portes \n \n \n \n
  \n 18h00 \n \n \n Allocution de la présidente de la CCIG \n \n \n \n   \n
  \n Laurence de la Serna\, administratrice déléguée\, Jean Gallay SA \n \n
  \n \n \n 18h05 \n \n \n Présentation des propositions de l’économie pour 
 la législature 2023-2028 \n \n \n \n   \n \n Nathalie Hardyn\, directrice 
 du département politique\, CCIG \n \n \n \n \n   \n \n \n Témoignages d’en
 treprises genevoises \n \n \n \n   \n \n Marie Barbier-Mueller\, membre de
  la direction générale\, Société Privée de Gérance SA et membre du Conseil
  économique de la CCIG \n Yves Cretegny\, directeur général\, m3 IMMOBILIE
 R \n Isabelle Harsch\, CEO\, Henri Harsch HH SA et membre du Comité de la 
 CCIG \n Eric Emery\, président de l'Association des Artisans Boulangers-Co
 nfiseurs du Canton de Genève (ABCGe) \n \n \n \n \n 18h45 \n \n \n Echange
  avec le public \n \n \n \n   \n \n Elsa Floret\, directrice du départemen
 t communication\, CCIG \n \n \n \n \n 19h15 \n \n \n Apéritif \n \n \n \n 
 \n   \n La participation est gratuite mais l’inscription obligatoire . Nou
 s vous informons que des photos et/ou des vidéos pourraient être réalisées
  pour immortaliser l’évènement.
DTEND:20230214T200000
DTSTAMP:20260419T183059Z
DTSTART:20230214T180000
LOCATION:Uptown Geneva\, rue de la Servette 2\, Genève
SEQUENCE:0
SUMMARY:L’économie à la rencontre des futurs élus  
UID:b396c86f-e336-4b70-933f-b0e69bf81679
X-ALT-DESC;FMTTYPE=text/html:<p><strong>Volet 1: Grand Conseil<br /><br /><
 /strong>&Agrave\; la veille des &eacute\;lections\, la CCIG a le plaisir d
 e convier &agrave\; l&rsquo\;Uptown l&rsquo\;ensemble des candidats au Gra
 nd Conseil &agrave\; une rencontre qui sera l&rsquo\;occasion de pr&eacute
 \;senter les propositions de la Chambre pour la nouvelle l&eacute\;gislatu
 re et d&rsquo\;&eacute\;changer sur les pr&eacute\;occupations et les beso
 ins des entreprises genevoises.</p>\n<p>Ouvert &agrave\; tous les entrepre
 neurs genevois\, cet &eacute\;v&egrave\;nement permettra aux futurs &eacut
 e\;lus et aux repr&eacute\;sentants de l&rsquo\;&eacute\;conomie de dialog
 uer sur les priorit&eacute\;s pour l&rsquo\;avenir du canton. <br /><br />
 </p>\n<p><u>Programme</u>&nbsp\;:</p>\n<table style="height: 456px\;" widt
 h="489">\n<tbody>\n<tr>\n<td width="73">\n<p>17h30</p>\n</td>\n<td width="
 576">\n<p><strong>Ouverture des portes</strong></p>\n</td>\n</tr>\n<tr>\n<
 td width="73">\n<p>18h00</p>\n</td>\n<td width="576">\n<p><strong>Allocuti
 on de la pr&eacute\;sidente de la CCIG</strong></p>\n</td>\n</tr>\n<tr>\n<
 td width="73">&nbsp\;</td>\n<td width="576">\n<p><em>Laurence de la Serna\
 , administratrice d&eacute\;l&eacute\;gu&eacute\;e\, Jean Gallay SA</em></
 p>\n</td>\n</tr>\n<tr>\n<td width="73">\n<p>18h05</p>\n</td>\n<td width="5
 76">\n<p><strong>Pr&eacute\;sentation des propositions&nbsp\;de l&rsquo\;&
 eacute\;conomie pour la l&eacute\;gislature 2023-2028</strong></p>\n</td>\
 n</tr>\n<tr>\n<td width="73">&nbsp\;</td>\n<td width="576">\n<p><em>Nathal
 ie Hardyn\, directrice du d&eacute\;partement politique\, CCIG</em></p>\n<
 /td>\n</tr>\n<tr>\n<td width="73">\n<p>&nbsp\;</p>\n</td>\n<td width="576"
 >\n<p><strong>T&eacute\;moignages d&rsquo\;entreprises genevoises</strong>
 </p>\n</td>\n</tr>\n<tr>\n<td width="73">&nbsp\;</td>\n<td width="576">\n<
 p><em>Marie Barbier-Mueller\, membre de la direction g&eacute\;n&eacute\;r
 ale\, Soci&eacute\;t&eacute\; Priv&eacute\;e de G&eacute\;rance SA et memb
 re du Conseil &eacute\;conomique de la CCIG</em></p>\n<p><em>Yves Cretegny
 \, directeur g&eacute\;n&eacute\;ral\, m3 IMMOBILIER</em></p>\n<p><em>Isab
 elle Harsch\, CEO\, Henri Harsch HH SA et membre du Comit&eacute\; de la C
 CIG</em></p>\n<p><em>Eric Emery\, pr&eacute\;sident de l'Association des A
 rtisans Boulangers-Confiseurs du Canton de Gen&egrave\;ve (ABCGe)</em></p>
 \n</td>\n</tr>\n<tr>\n<td width="73">\n<p>18h45</p>\n</td>\n<td width="576
 ">\n<p><strong>Echange avec le public</strong></p>\n</td>\n</tr>\n<tr>\n<t
 d width="73">&nbsp\;</td>\n<td width="576">\n<p><em>Elsa Floret\, directri
 ce du d&eacute\;partement communication\, CCIG</em></p>\n</td>\n</tr>\n<tr
 >\n<td width="73">\n<p>19h15</p>\n</td>\n<td width="576">\n<p><strong>Ap&e
 acute\;ritif</strong></p>\n</td>\n</tr>\n</tbody>\n</table>\n<p>&nbsp\;</p
 >\n<p><strong>La participation est gratuite mais l&rsquo\;inscription obli
 gatoire</strong>. Nous vous informons que des photos et/ou des vid&eacute\
 ;os pourraient &ecirc\;tre r&eacute\;alis&eacute\;es pour immortaliser l&r
 squo\;&eacute\;v&egrave\;nement.</p>
END:VEVENT
END:VCALENDAR
