BEGIN:VCALENDAR
VERSION:2.0
PRODID:-//ddaysoftware.com//NONSGML DDay.iCal 1.0//EN
BEGIN:VEVENT
DESCRIPTION:Vous souhaitez mettre en place un projet concret qui porte l’ég
 alité de genre au travail entre vos employés et vos employées ? \n Vous vo
 ulez améliorer votre climat collaboratif ? \n Vous voulez répondre aux att
 entes des jeunes générations professionnelles dans un marché de l’emploi e
 n pleine mutation\, telles que la conciliation des vies ? \n Nous vous acc
 ompagnons pour intégrer durablement des pratiques égalitaires dans votre e
 ntreprise selon vos besoins et ressources \n Profitez de l’accompagnement 
 « Egalité\, votre entreprise en action » (EVEA) \n \n Identifiez les diffé
 rents axes d’actions possibles \n Choisissez un projet spécifique à votre 
 structure \n Préparez sa mise en application \n Élaborez un plan d’action 
 \n \n Bénéficiez d’un accompagnement personnalisé \n \n Participez à 4 séa
 nces en présentiel animées par des spécialistes du monde du travail \n Rec
 evez un soutien individuel par visio \n Vivez des échanges inspirants avec
  d’autres entreprises \n Rejoignez une communauté d’entreprises active \n 
 \n   Engagez-vous sur 6 mois \n \n Assistez à une séance introductive pour
  les directions(1h30) \n Participez activement à 4 séances collectives (4 
 demi-journées) \n Utiliser les séances individuelles (3x1h à disposition) 
 \n Concevez une ou des actions pilotes (20-50h) \n Bénéficiez d’une séance
  thématique avec les volées d’entreprises précédentes \n Partagez votre ex
 périence lors d’un événement public \n \n Coût de participation \n \n 850 
 CHF membres (CCIG\, FER Genève\, APRES-Ge) \n 1000 CHF non-membres \n \n  
 Dates à retenir \n \n Séance préliminaire avec les directions : à fixer \n
  Séances collectives : 28 mai\, 25 juin (8h30-12h30) et 15 septembre\, 13 
 octobre (13h30-17h30) \n Évènement de clôture : 28 janvier 2027 (18h-20h) 
 \n \n Candidatez - 10 places ouvertes ! \n \n Public cible : personnel RH 
 ou décisionnel\, binôme encouragé \n Délai : Inscription en ligne jusqu’au
  30 avril 2026 \n Merci de nous faire parvenir en parallèle de votre inscr
 iption via le site\,  une lettre de motivation à rejoindre l’accompagnemen
 t \, à l'adresse :  alessandra.cencin@etat.ge.ch   \n \n   \n Vous trouver
 ez le lien vers le PDF :  ICI \n   \n Ne manquez pas cette opportunité de 
 prendre de l’avance  sur les enjeux d’égalité ! \n EVEA est porté par le B
 ureau cantonal de promotion de l'égalité et de prévention des violences (B
 PEV)\, la Chambre de commerce\, d’industrie et des services de Genève (CCI
 G)\, la Fédération des entreprises romandes de Genève (FER Genève)\, et AP
 RES-Ge\, faîtière genevoise de l'économie durable. \n   \n N.B. Nous vous 
 informons que des photos et/ou des vidéos pourraient être réalisées pour i
 mmortaliser ces événements. En y participant\, vous autorisez les institut
 ions partenaires à les utiliser sur différents supports pour promouvoir le
 urs activités.  \n Merci de privilégier la mobilité douce et les transport
 s publics pour vos déplacements. \n   \n Pour toutes questions : Alessandr
 a Cencin (BPEV)  alessandra.cencin@etat.ge.ch   \n   \n Merci de bien voul
 oir indiquer si vous êtes membre de l’une des fédérations suivantes :
DTEND:20261013T123000
DTSTAMP:20260423T201359Z
DTSTART:20260528T083000
LOCATION:Locaux CCIG et Locaux APRES-Ge
SEQUENCE:0
SUMMARY:Egalité\, votre entreprise en action : un accompagnement sur-mesure
UID:992e0f57-75f1-4607-b7bb-990201e0e727
X-ALT-DESC;FMTTYPE=text/html:<p>Vous souhaitez mettre en place un projet co
 ncret qui porte l&rsquo\;&eacute\;galit&eacute\; de genre au travail entre
  vos employ&eacute\;s et vos employ&eacute\;es&nbsp\;?</p>\n<p>Vous voulez
  am&eacute\;liorer votre climat collaboratif&nbsp\;?</p>\n<p>Vous voulez r
 &eacute\;pondre aux attentes des jeunes g&eacute\;n&eacute\;rations profes
 sionnelles dans un march&eacute\; de l&rsquo\;emploi en pleine mutation\, 
 telles que la conciliation des vies&nbsp\;?</p>\n<p>Nous vous accompagnons
  pour int&eacute\;grer durablement des pratiques &eacute\;galitaires dans 
 votre entreprise selon vos besoins et ressources</p>\n<p><strong>Profitez 
 de l&rsquo\;accompagnement &laquo\;&nbsp\;Egalit&eacute\;\, votre entrepri
 se en action&nbsp\;&raquo\; (EVEA)</strong></p>\n<ul>\n<li>Identifiez les 
 diff&eacute\;rents axes d&rsquo\;actions possibles</li>\n<li>Choisissez un
  projet sp&eacute\;cifique &agrave\; votre structure</li>\n<li>Pr&eacute\;
 parez sa mise en application</li>\n<li>&Eacute\;laborez un plan d&rsquo\;a
 ction</li>\n</ul>\n<p><strong>B&eacute\;n&eacute\;ficiez d&rsquo\;un accom
 pagnement personnalis&eacute\;</strong></p>\n<ul>\n<li>Participez &agrave\
 ; 4 s&eacute\;ances en pr&eacute\;sentiel anim&eacute\;es par des sp&eacut
 e\;cialistes du monde du travail</li>\n<li>Recevez un soutien individuel p
 ar visio</li>\n<li>Vivez des &eacute\;changes inspirants avec d&rsquo\;aut
 res entreprises</li>\n<li>Rejoignez une communaut&eacute\; d&rsquo\;entrep
 rises active</li>\n</ul>\n<p><strong>&nbsp\;</strong><strong>Engagez-vous 
 sur 6 mois</strong></p>\n<ul>\n<li>Assistez &agrave\; une s&eacute\;ance i
 ntroductive pour les directions(1h30)</li>\n<li>Participez activement &agr
 ave\; 4 s&eacute\;ances collectives (4 demi-journ&eacute\;es)</li>\n<li>Ut
 iliser les s&eacute\;ances individuelles (3x1h &agrave\; disposition)</li>
 \n<li>Concevez une ou des actions pilotes (20-50h)</li>\n<li>B&eacute\;n&e
 acute\;ficiez d&rsquo\;une s&eacute\;ance th&eacute\;matique avec les vol&
 eacute\;es d&rsquo\;entreprises pr&eacute\;c&eacute\;dentes</li>\n<li>Part
 agez votre exp&eacute\;rience lors d&rsquo\;un &eacute\;v&eacute\;nement p
 ublic</li>\n</ul>\n<p><strong>Co&ucirc\;t de participation</strong></p>\n<
 ul>\n<li>850 CHF membres (CCIG\, FER Gen&egrave\;ve\, APRES-Ge)</li>\n<li>
 1000 CHF non-membres</li>\n</ul>\n<p><strong>&nbsp\;Dates&nbsp\;&agrave\; 
 retenir</strong></p>\n<ul>\n<li>S&eacute\;ance pr&eacute\;liminaire avec l
 es directions&nbsp\;: &agrave\; fixer</li>\n<li>S&eacute\;ances collective
 s : 28 mai\, 25 juin (8h30-12h30) et 15 septembre\, 13 octobre (13h30-17h3
 0)</li>\n<li>&Eacute\;v&egrave\;nement de cl&ocirc\;ture : 28 janvier 2027
  (18h-20h)</li>\n</ul>\n<p><strong>Candidatez - 10 places ouvertes&nbsp\;!
 </strong></p>\n<ul>\n<li>Public cible&nbsp\;: personnel RH ou d&eacute\;ci
 sionnel\, bin&ocirc\;me encourag&eacute\;</li>\n<li>D&eacute\;lai : Inscri
 ption en ligne jusqu&rsquo\;au 30 avril 2026</li>\n<li>Merci de nous faire
  parvenir en parall&egrave\;le de votre inscription via le site\, <strong>
 une lettre de motivation &agrave\; rejoindre l&rsquo\;accompagnement</stro
 ng>\, &agrave\; l'adresse : <a href="mailto:alessandra.cencin@etat.ge.ch">
 alessandra.cencin@etat.ge.ch</a>&nbsp\;</li>\n</ul>\n<p>&nbsp\;</p>\n<p st
 yle="text-align: center\;">Vous trouverez le lien vers le PDF : <strong><a
  href="/files/7586/EVEA_Candidatures-2026.pdf" target="_blank" rel="noopen
 er">ICI</a></strong></p>\n<p style="text-align: center\;">&nbsp\;</p>\n<p>
 <strong>Ne manquez pas cette opportunit&eacute\; de prendre de l&rsquo\;av
 ance </strong><strong>sur les enjeux d&rsquo\;&eacute\;galit&eacute\; !</s
 trong></p>\n<p>EVEA est port&eacute\; par le Bureau cantonal de promotion 
 de l'&eacute\;galit&eacute\; et de pr&eacute\;vention des violences (BPEV)
 \, la Chambre de commerce\, d&rsquo\;industrie et des services de Gen&egra
 ve\;ve (CCIG)\, la F&eacute\;d&eacute\;ration des entreprises romandes de 
 Gen&egrave\;ve (FER Gen&egrave\;ve)\, et APRES-Ge\, fa&icirc\;ti&egrave\;r
 e genevoise de l'&eacute\;conomie durable.</p>\n<p>&nbsp\;</p>\n<p><em>N.B
 . Nous vous informons que des photos et/ou des vid&eacute\;os pourraient &
 ecirc\;tre r&eacute\;alis&eacute\;es pour immortaliser ces &eacute\;v&eacu
 te\;nements. En y participant\, vous autorisez les institutions partenaire
 s &agrave\; les utiliser sur diff&eacute\;rents supports pour promouvoir l
 eurs activit&eacute\;s. </em></p>\n<p><em>Merci de privil&eacute\;gier la 
 mobilit&eacute\; douce et les transports publics&nbsp\;pour vos d&eacute\;
 placements.</em></p>\n<p>&nbsp\;</p>\n<p style="text-align: center\;">Pour
  toutes questions&nbsp\;: Alessandra Cencin (BPEV)&nbsp\;<a href="mailto:a
 lessandra.cencin@etat.ge.ch">alessandra.cencin@etat.ge.ch</a>&nbsp\;</p>\n
 <p style="text-align: center\;">&nbsp\;</p>\n<p>Merci de bien vouloir indi
 quer si vous &ecirc\;tes membre de l&rsquo\;une des f&eacute\;d&eacute\;ra
 tions suivantes :</p>
END:VEVENT
END:VCALENDAR
