BEGIN:VCALENDAR
VERSION:2.0
PRODID:-//ddaysoftware.com//NONSGML DDay.iCal 1.0//EN
BEGIN:VEVENT
DESCRIPTION:" Décarboner son entreprise - Repenser le modèle d’affaires des
  PME"  \n Le thème de cette édition s'adresse aux  acteurs et actrices de 
 la durabilité autour de l'intégration et du développement des compétences 
 en management durable dans les entreprises. \n La 3e édition du Forum du M
 anagement Durable réunit la HEG-Genève\, la CCIG et l’État de Genève autou
 r d’un enjeu central: la décarbonation au service de son modèle d’affaire.
  Dans un contexte marqué par des défis environnementaux et sociaux croissa
 nts\, les organisations sont appelées à repenser en profondeur leur créati
 on de valeur. Le temps d'une journée\, les participantes et participants a
 uront entre autres l’occasion d’explorer les leviers concrets de décarbona
 tion\, de partager des retours d’expérience et d’ouvrir le dialogue entre 
 milieux académique\, institutionnel et économique. Le but est de mieux cer
 ner les enjeux\, les opportunités et les solutions concrètes. \n   \n Prog
 ramme : \n \n \n \n 8h30 - 9h00 \n Accueil \n \n \n 9h00 - 9h30 \n \n Inte
 rventions  des représentants du Département de l'économie et de l'emploi (
 DEE) du Canton de Genève\, de la Chambre de commerce\, d'industrie et des 
 services de Genève (CCIG) et de la HEG-Genève \n \n \n \n 9h30 - 9h45 \n \
 n Prise de parole \n Monsieur Sergio Mujica\, Secrétaire Général de l’ISO 
 \n \n \n \n 9h45 - 10h45 \n \n Table ronde: « Comment développer un modèle
  d’affaires décarboné ? » \n \n Anne-Sophie Dunand-Blaesi\, Directrice gén
 érale et associée\, Aprotec SA \n Sébastien Grillet\, Directeur général & 
 co-fondateur de Bean2me \n François Girod\, Directeur Économie circulaire\
 , Holcim \n Daniel Dobbs\, Responsable développement durable\, Jacquet SA 
 \n \n \n \n \n 10h45 - 11h15 \n \n Pause \n \n \n \n 11h15 - 11h30 \n \n P
 résentation baromètre RSE – HEG-Genève 2026 \n Focus sur les pratiques RSE
  des entreprises avec des étudiant-es de l’orientation Management durable 
 de la HEG-Genève\,François Sibille\, maître d’enseignement HEG-Genève et B
 arbara Chastellain-Fanti\, chargée de cours HEG-Genève \n \n \n \n 11h30 -
  12h30 \n \n Keynote speaker \n Luc Schuiten\, architecte et urbaniste bel
 ge reconnu pour ses travaux prospectifs sur les villes décarbonées et les 
 cités végétales \n \n \n \n  12h30 - 13h30 \n  Cocktail dînatoire & networ
 king \n \n \n  13h30 - 14h30 \n  Ateliers à choix en simultané  \n \n \n  
  \n \n 1. ISO 53001\,   2026\, Nouveau système de management des ODD . \n 
 Focus sur la prise en compte de la décarbonation par François Sibille \n \
 n \n \n   \n \n  2. État de Genève – Direction Durabilité et Climat – Chal
 lenge ton empreinte . \n Atelier de sensibilisation pour comprendre concrè
 tement les principales sources d'émissions de gaz à effet de serre et comm
 ent agir efficacement pour les réduire. Repartez avec les bons ordres de g
 randeur\, des repères pour agir et l’envie de se mobiliser sur une action 
 commune à mener dans les prochains mois.  (max. 18 personnes) \n \n \n \n 
   \n \n 3. TPG – Les habitudes de mobilité au cœur des plans de mobilité d
 ’entreprise\, les comprendre pour mieux agir .  \n Cet atelier proposé exp
 lore les plans de mobilité d'entreprise sous un angle comportemental et ps
 ychologique. En deux temps\, les participant.es identifient d'abord les le
 viers psychologiques qui influencent les habitudes de déplacement\, puis r
 éfléchissent aux mesures concrètes à mettre en œuvre pour maximiser l'impa
 ct de leur plan de mobilité. Animé par Emily Tombet et Emile Galland. \n \
 n \n \n  14h30 - 15h30 \n  Ateliers à choix en simultané \n \n \n   \n 1. 
 HEG – Un outil RSE pensé par et pour les PME Cet atelier présentera un out
 il RSE basé sur la blockchain\, et vous offrira l’opportunité de le tester
  en conditions réelles. Conçu en collaboration avec des entreprises parten
 aires\, il permet de suivre une trentaine d’indicateurs clés adaptés aux e
 njeux des PME. L’objectif: outiller les entreprises pour piloter leur perf
 ormance extra-financière et engager une transformation progressive vers de
 s pratiques plus durables. Les participants souhaitant expérimenter l’outi
 l sont invités à se munir de leur ordinateur portable. Animé par Nathalie 
 Brender et Jean-Henry Morin. \n \n \n   \n 2. Fondation Carbone & ecoLive 
 – Établir une feuille de route de décarbonation à opérationnaliser Transfo
 rmez vos objectifs climatiques en actions concrètes\, priorisées et réalis
 tes\, et pilotez votre stratégie grâce à une vision claire et des résultat
 s mesurables. \n \n \n   \n 3. HEG – Quelles collaborations et partenariat
 s pour investir dans la durabilité? Retours d’expérience et échanges perso
 nnalisés Animé par Benjamin Morit\, responsable des partenariats entrepris
 es à la HEG-Genève. \n \n \n 15h30 \n Fin de l'événement \n \n \n \n   \n 
 Inscription \n L'événement est gratuit mais l'inscription est obligatoire.
  \n Vous n’êtes pas encore Membre ? \n Pour plus d’infos :  membres@ccig.c
 h  ! \n Merci de privilégier la mobilité douce et les transports publics p
 our vos déplacements.  \n NB: Nous vous informons que des photos et/ou des
  vidéos pourraient être réalisées pour immortaliser cet événement.  \n En 
 y participant\, vous autorisez la CCIG à les utiliser sur différents suppo
 rts pour promouvoir ses activités. \n   \n  
DTEND:20260604T153000
DTSTAMP:20260423T121525Z
DTSTART:20260604T083000
LOCATION:HEG-Genève Bâtiment B\, Campus Battelle\, Rue de la Tambourine 17\
 , 1227 Carouge
SEQUENCE:0
SUMMARY:Forum Management durable 2026
UID:57fb2d6c-8d06-4d1d-b285-6d0586a1186f
X-ALT-DESC;FMTTYPE=text/html:<h3>"<span lang="FR">D&eacute\;carboner son en
 treprise - Repenser le mod&egrave\;le d&rsquo\;affaires des PME" </span></
 h3>\n<p><span lang="FR">Le th&egrave\;me de cette &eacute\;dition s'adress
 e aux</span>&nbsp\;acteurs et actrices de la durabilit&eacute\; autour de 
 l'int&eacute\;gration&nbsp\;et du d&eacute\;veloppement des comp&eacute\;t
 ences en management durable dans les entreprises.</p>\n<p>La 3e &eacute\;d
 ition du Forum du Management Durable r&eacute\;unit la HEG-Gen&egrave\;ve\
 , la CCIG et l&rsquo\;&Eacute\;tat de Gen&egrave\;ve autour d&rsquo\;un en
 jeu central: la d&eacute\;carbonation au service de son mod&egrave\;le d&r
 squo\;affaire. Dans un contexte marqu&eacute\; par des d&eacute\;fis envir
 onnementaux et sociaux croissants\, les organisations sont appel&eacute\;e
 s &agrave\; repenser en profondeur leur cr&eacute\;ation de valeur. Le tem
 ps d'une journ&eacute\;e\, les participantes et participants auront entre 
 autres l&rsquo\;occasion d&rsquo\;explorer les leviers concrets de d&eacut
 e\;carbonation\, de partager des retours d&rsquo\;exp&eacute\;rience et d&
 rsquo\;ouvrir le dialogue entre milieux acad&eacute\;mique\, institutionne
 l et &eacute\;conomique. Le but est de mieux cerner les enjeux\, les oppor
 tunit&eacute\;s et les solutions concr&egrave\;tes.</p>\n<p>&nbsp\;</p>\n<
 p><strong>Programme</strong>:</p>\n<table class="table-responsive sp-table
 " style="height: 991px\;">\n<tbody>\n<tr style="height: 100px\;">\n<td sty
 le="height: 20px\; width: 181.521px\;">8h30 - 9h00</td>\n<td style="height
 : 20px\; width: 673.146px\;"><strong>Accueil</strong></td>\n</tr>\n<tr sty
 le="height: 83px\;">\n<td style="width: 181.521px\; height: 67px\;">9h00 -
  9h30</td>\n<td style="width: 673.146px\; height: 67px\;">\n<p><strong>Int
 erventions</strong> des repr&eacute\;sentants du D&eacute\;partement de l'
 &eacute\;conomie et de l'emploi (DEE) du Canton de Gen&egrave\;ve\, de la 
 Chambre de commerce\, d'industrie et des services de Gen&egrave\;ve (CCIG)
  et de la HEG-Gen&egrave\;ve</p>\n</td>\n</tr>\n<tr style="height: 165px\;
 ">\n<td style="height: 33px\; width: 181.521px\;">9h30 - 9h45</td>\n<td st
 yle="height: 33px\; width: 673.146px\;">\n<p><strong>Prise de parole</stro
 ng></p>\n<p>Monsieur Sergio Mujica\, Secr&eacute\;taire G&eacute\;n&eacute
 \;ral de l&rsquo\;ISO</p>\n</td>\n</tr>\n<tr style="height: 90px\;">\n<td 
 style="height: 72px\; width: 181.521px\;">9h45 - 10h45</td>\n<td style="he
 ight: 72px\; width: 673.146px\;">\n<p><strong>Table ronde:&nbsp\;&laquo\; 
 Comment d&eacute\;velopper un mod&egrave\;le d&rsquo\;affaires d&eacute\;c
 arbon&eacute\; ? &raquo\;</strong></p>\n<ul>\n<li>Anne-Sophie Dunand-Blaes
 i\, Directrice g&eacute\;n&eacute\;rale et associ&eacute\;e\, Aprotec SA</
 li>\n<li>S&eacute\;bastien Grillet\, Directeur g&eacute\;n&eacute\;ral &am
 p\; co-fondateur de Bean2me</li>\n<li>Fran&ccedil\;ois Girod\, Directeur &
 Eacute\;conomie circulaire\, Holcim</li>\n<li>Daniel Dobbs\, Responsable d
 &eacute\;veloppement durable\, Jacquet SA</li>\n</ul>\n</td>\n</tr>\n<tr s
 tyle="height: 33px\;">\n<td style="height: 13px\; width: 181.521px\;">10h4
 5 - 11h15</td>\n<td style="height: 13px\; width: 673.146px\;">\n<p><strong
 >Pause</strong></p>\n</td>\n</tr>\n<tr style="height: 68px\;">\n<td style=
 "height: 42px\; width: 181.521px\;">11h15 - 11h30</td>\n<td style="height:
  42px\; width: 673.146px\;">\n<p><strong>Pr&eacute\;sentation barom&egrave
 \;tre RSE &ndash\; HEG-Gen&egrave\;ve 2026</strong></p>\n<p>Focus sur les 
 pratiques RSE des entreprises avec des &eacute\;tudiant-es de l&rsquo\;ori
 entation Management durable de la HEG-Gen&egrave\;ve\,Fran&ccedil\;ois Sib
 ille\, ma&icirc\;tre d&rsquo\;enseignement HEG-Gen&egrave\;ve et Barbara C
 hastellain-Fanti\, charg&eacute\;e de cours HEG-Gen&egrave\;ve</p>\n</td>\
 n</tr>\n<tr style="height: 65px\;">\n<td style="height: 45px\; width: 181.
 521px\;">11h30 - 12h30</td>\n<td style="height: 45px\; width: 673.146px\;"
 >\n<p><strong>Keynote speaker</strong></p>\n<p>Luc Schuiten\,&nbsp\;archit
 ecte et urbaniste belge reconnu pour ses travaux prospectifs sur les ville
 s d&eacute\;carbon&eacute\;es et les cit&eacute\;s v&eacute\;g&eacute\;tal
 es</p>\n</td>\n</tr>\n<tr style="height: 153px\;">\n<td style="height: 36p
 x\; width: 181.521px\;">&nbsp\;12h30 - 13h30</td>\n<td style="height: 36px
 \; width: 673.146px\;"><strong> Cocktail d&icirc\;natoire &amp\; networkin
 g</strong></td>\n</tr>\n<tr style="height: 23px\;">\n<td style="height: 10
 px\; width: 181.521px\;">&nbsp\;13h30 - 14h30</td>\n<td style="height: 10p
 x\; width: 673.146px\;"><strong> Ateliers &agrave\; choix en simultan&eacu
 te\;&nbsp\;</strong></td>\n</tr>\n<tr style="height: 45px\;">\n<td style="
 height: 33px\; width: 181.521px\;">&nbsp\;</td>\n<td style="height: 33px\;
  width: 673.146px\;">\n<p><strong>1. ISO 53001\,</strong>&nbsp\;<strong>20
 26\,&nbsp\;Nouveau syst&egrave\;me de management des ODD</strong>.</p>\n<p
 >Focus sur la prise en compte de la d&eacute\;carbonation par&nbsp\;Fran&c
 cedil\;ois Sibille</p>\n</td>\n</tr>\n<tr style="height: 65px\;">\n<td sty
 le="height: 65px\; width: 181.521px\;">&nbsp\;</td>\n<td style="height: 65
 px\; width: 673.146px\;">\n<p><strong>&nbsp\;2. &Eacute\;tat de Gen&egrave
 \;ve &ndash\; Direction Durabilit&eacute\; et Climat &ndash\; Challenge to
 n empreinte</strong>.</p>\n<p>Atelier de sensibilisation pour comprendre c
 oncr&egrave\;tement les principales sources d'&eacute\;missions de gaz &ag
 rave\; effet de serre et comment agir efficacement pour les r&eacute\;duir
 e. Repartez avec les bons ordres de grandeur\, des rep&egrave\;res pour ag
 ir et l&rsquo\;envie de se mobiliser sur une action commune &agrave\; mene
 r dans les prochains mois. <em>(max. 18 personnes)</em></p>\n</td>\n</tr>\
 n<tr style="height: 45px\;">\n<td style="height: 45px\; width: 181.521px\;
 ">&nbsp\;</td>\n<td style="height: 45px\; width: 673.146px\;">\n<p><strong
 >3. TPG &ndash\; Les habitudes de mobilit&eacute\; au c&oelig\;ur des plan
 s de mobilit&eacute\; d&rsquo\;entreprise\, les comprendre pour mieux agir
 </strong>.&nbsp\;</p>\n<p>Cet atelier propos&eacute\; explore les plans de
  mobilit&eacute\; d'entreprise sous un angle comportemental et psychologiq
 ue. En deux temps\, les participant.es identifient d'abord les leviers psy
 chologiques qui influencent les habitudes de d&eacute\;placement\, puis r&
 eacute\;fl&eacute\;chissent aux mesures concr&egrave\;tes &agrave\; mettre
  en &oelig\;uvre pour maximiser l'impact de leur plan de mobilit&eacute\;.
  Anim&eacute\; par&nbsp\;Emily Tombet et Emile Galland.</p>\n</td>\n</tr>\
 n<tr style="height: 21px\;">\n<td style="height: 21px\; width: 181.521px\;
 ">&nbsp\;14h30 - 15h30</td>\n<td style="height: 21px\; width: 673.146px\;"
 ><strong> Ateliers &agrave\; choix en simultan&eacute\;</strong></td>\n</t
 r>\n<tr style="height: 212px\;">\n<td style="width: 181.521px\; height: 21
 2px\;">&nbsp\;</td>\n<td style="width: 673.146px\; height: 212px\;"><stron
 g>1. HEG &ndash\; Un outil RSE pens&eacute\; par et pour les PME</strong><
 br />Cet atelier pr&eacute\;sentera un outil RSE bas&eacute\; sur la block
 chain\, et vous offrira l&rsquo\;opportunit&eacute\; de le tester en condi
 tions r&eacute\;elles. Con&ccedil\;u en collaboration avec des entreprises
  partenaires\, il permet de suivre une trentaine d&rsquo\;indicateurs cl&e
 acute\;s adapt&eacute\;s aux enjeux des PME. L&rsquo\;objectif: outiller l
 es entreprises pour piloter leur performance extra-financi&egrave\;re et e
 ngager une transformation progressive vers des pratiques plus durables. Le
 s participants souhaitant exp&eacute\;rimenter l&rsquo\;outil sont invit&e
 acute\;s &agrave\; se munir de leur ordinateur portable. Anim&eacute\; par
  Nathalie Brender et Jean-Henry Morin.</td>\n</tr>\n<tr style="height: 122
 px\;">\n<td style="width: 181.521px\; height: 122px\;">&nbsp\;</td>\n<td s
 tyle="width: 673.146px\; height: 122px\;"><strong>2. Fondation Carbone &am
 p\; ecoLive &ndash\; &Eacute\;tablir une feuille de route de d&eacute\;car
 bonation &agrave\; op&eacute\;rationnaliser</strong><br />Transformez vos 
 objectifs climatiques en actions concr&egrave\;tes\, prioris&eacute\;es et
  r&eacute\;alistes\, et pilotez votre strat&eacute\;gie gr&acirc\;ce &agra
 ve\; une vision claire et des r&eacute\;sultats mesurables.</td>\n</tr>\n<
 tr style="height: 100px\;">\n<td style="width: 181.521px\; height: 100px\;
 ">&nbsp\;</td>\n<td style="width: 673.146px\; height: 100px\;"><strong>3.&
 nbsp\;HEG &ndash\; Quelles collaborations et partenariats pour investir da
 ns la durabilit&eacute\;?&nbsp\;Retours d&rsquo\;exp&eacute\;rience&nbsp\;
 et &eacute\;changes personnalis&eacute\;s</strong><br />Anim&eacute\; par 
 Benjamin Morit\, responsable des partenariats entreprises &agrave\; la HEG
 -Gen&egrave\;ve.</td>\n</tr>\n<tr style="height: 55px\;">\n<td style="widt
 h: 181.521px\; height: 55px\;">15h30</td>\n<td style="width: 673.146px\; h
 eight: 55px\;"><strong>Fin de l'&eacute\;v&eacute\;nement</strong></td>\n<
 /tr>\n</tbody>\n</table>\n<p>&nbsp\;</p>\n<p class="heading-p"><a href="ht
 tps://www.hesge.ch/heg/form/forum-management-durable-04-06-26" target="_bl
 ank" rel="noopener"><strong>Inscription</strong></a></p>\n<p class="headin
 g-p"><strong>L'&eacute\;v&eacute\;nement est gratuit mais l'inscription es
 t obligatoire.</strong></p>\n<p>Vous n&rsquo\;&ecirc\;tes pas encore Membr
 e&nbsp\;?</p>\n<p>Pour plus d&rsquo\;infos&nbsp\;:&nbsp\;<a href="mailto:m
 embres@ccig.ch" target="_blank" rel="noopener">membres@ccig.ch</a>&nbsp\;!
 </p>\n<p><em><strong>Merci de privil&eacute\;gier la mobilit&eacute\; douc
 e et les transports publics&nbsp\;pour vos d&eacute\;placements.&nbsp\;</s
 trong></em></p>\n<p><em>NB: Nous vous informons que des photos et/ou des v
 id&eacute\;os pourraient &ecirc\;tre r&eacute\;alis&eacute\;es pour immort
 aliser cet &eacute\;v&eacute\;nement. </em></p>\n<p><em>En y participant\,
  vous autorisez la CCIG &agrave\; les utiliser sur diff&eacute\;rents supp
 orts pour promouvoir ses activit&eacute\;s.</em></p>\n<p>&nbsp\;</p>\n<p>&
 nbsp\;</p>
END:VEVENT
END:VCALENDAR
